BEGIN:VCALENDAR
PRODID:-//zoom.us//iCalendar Event//EN
VERSION:2.0
CALSCALE:GREGORIAN
METHOD:REQUEST
BEGIN:VTIMEZONE
TZID:America/New_York
LAST-MODIFIED:20260306T231828Z
TZURL:https://www.tzurl.org/zoneinfo-outlook/America/New_York
X-LIC-LOCATION:America/New_York
BEGIN:DAYLIGHT
TZNAME:EDT
TZOFFSETFROM:-0500
TZOFFSETTO:-0400
DTSTART:19700308T020000
RRULE:FREQ=YEARLY;BYMONTH=3;BYDAY=2SU
END:DAYLIGHT
BEGIN:STANDARD
TZNAME:EST
TZOFFSETFROM:-0400
TZOFFSETTO:-0500
DTSTART:19701101T020000
RRULE:FREQ=YEARLY;BYMONTH=11;BYDAY=1SU
END:STANDARD
END:VTIMEZONE
BEGIN:VEVENT
DTSTAMP:20260317T013326Z
DTSTART;TZID=America/New_York:20260316T200000
DTEND;TZID=America/New_York:20260316T210000
SUMMARY:[STARTING NOW]: Discover How Beginners Are Launching Digital Products on JVZoo & Earning $1K–$10K/Month (Without Building the Software)
UID:b97kuj9p70rjgc1k6sq38e9ne1lmebb7dpnmqp9ddlgmirjkc5kmspbied06oqbjehpisobcd5nn8q1echim4qb1don6usj7
TZID:America/New_York
DESCRIPTION:Topic: [STARTING NOW]: Discover How Beginners Are Launching Digital Products on JVZoo & Earning $1K–$10K/Month (Without Building the Software)\nDescription: What if you could tap into the same marketplace where everyday marketers are launching simple digital products and generating $1\,000–$10\,000 per month… without having to code\, develop software\, or figure everything out by yourself?\n\nIn this live training\, you’ll discover the exact step-by-step blueprint we use inside the Partner With Misan (PWM) program to help beginners break into the digital software marketplace on JVZoo.\n\nThis isn’t about chasing shiny objects or guessing your way through online marketing.\n\nIt’s about following a structured 5-stage roadmap that shows you how to:\n\n✅ Build your first affiliate funnel and buyers list\n✅ Promote proven digital products that are already selling\n✅ Generate your first commissions while building your audience\n✅ Partner with experienced developers to launch your own software product\n✅ Tap into the JVZoo affiliate network to drive massive traffic to your launch\n\nAnd the best part?\n\nYou don’t need to be a programmer\, you don’t need expensive development teams\, and you don’t have to figure out the tech by yourself.\n\nDuring this webinar\, I’ll walk you through how complete beginners are positioning themselves to build recurring online income and digital product businesses using this proven model.\n\nIf you’ve ever wanted to move from buying online products to actually launching and selling them\, this training will open your eyes to what’s possible.\n\n⚠️ Important: This is a live training and space is limited.\n\nMake sure you click the “Add to Calendar” button below this description so the event is saved on your calendar and you receive a reminder before we go live.\n\nYou don’t want to miss this session.\n\nLooking forward to seeing you there.\n\nJoin from PC\, Mac\, iPad\, or Android:\nhttps://zoom.us/w/98780474497?tk=04gacGGYQoFEXgzCdDIE5uwU2SYG60rXo2mF3KNIA4s.DQkAAAAW_8ZsgRZaS25FMlk1d1JFT29BTVhnbzVjNG9RAAAAAAAAAAAAAAAAAAAAAAAAAAAAAAAAAAAAAAAAAAA&uuid=WN_wNlwFhwIR0ugzxUPKs970Q\n\nPhone one-tap:\n+13017158592\,\,98780474497# US (Washington DC)\n+13052241968\,\,98780474497# US\n\nJoin via audio:\n+1 301 715 8592 US (Washington DC)\n+1 305 224 1968 US\n+1 309 205 3325 US\n+1 312 626 6799 US (Chicago)\n+1 346 248 7799 US (Houston)\n+1 360 209 5623 US\n+1 386 347 5053 US\n+1 507 473 4847 US\n+1 564 217 2000 US\n+1 646 931 3860 US\n+1 669 444 9171 US\n+1 669 900 6833 US (San Jose)\n+1 689 278 1000 US\n+1 719 359 4580 US\n+1 929 205 6099 US (New York)\n+1 253 205 0468 US\n+1 253 215 8782 US (Tacoma)\nWebinar ID: 987 8047 4497\nInternational numbers available: https://zoom.us/u/ac6kXbp2sT\n\n\n
LOCATION:https://zoom.us/w/98780474497?tk=04gacGGYQoFEXgzCdDIE5uwU2SYG60rXo2mF3KNIA4s.DQkAAAAW_8ZsgRZaS25FMlk1d1JFT29BTVhnbzVjNG9RAAAAAAAAAAAAAAAAAAAAAAAAAAAAAAAAAAAAAAAAAAA&uuid=WN_wNlwFhwIR0ugzxUPKs970Q
SEQUENCE:1773691941
ORGANIZER;ROLE=REQ-PARTICIPANT;CN=Zoom Webinar:no-reply@zoom.us
ATTENDEE;ROLE=REQ-PARTICIPANT;CN=pkg-gnome-maintainers@lists.alioth.debian.org:mailto:pkg-gnome-maintainers@lists.alioth.debian.org
BEGIN:VALARM
TRIGGER:-PT10M
ACTION:DISPLAY
DESCRIPTION:Reminder
END:VALARM
END:VEVENT
END:VCALENDAR
