BEGIN:VCALENDAR
PRODID:-//zoom.us//iCalendar Event//EN
VERSION:2.0
CALSCALE:GREGORIAN
METHOD:REQUEST
BEGIN:VTIMEZONE
TZID:America/New_York
LAST-MODIFIED:20260306T231828Z
TZURL:https://www.tzurl.org/zoneinfo-outlook/America/New_York
X-LIC-LOCATION:America/New_York
BEGIN:DAYLIGHT
TZNAME:EDT
TZOFFSETFROM:-0500
TZOFFSETTO:-0400
DTSTART:19700308T020000
RRULE:FREQ=YEARLY;BYMONTH=3;BYDAY=2SU
END:DAYLIGHT
BEGIN:STANDARD
TZNAME:EST
TZOFFSETFROM:-0400
TZOFFSETTO:-0500
DTSTART:19701101T020000
RRULE:FREQ=YEARLY;BYMONTH=11;BYDAY=1SU
END:STANDARD
END:VTIMEZONE
BEGIN:VEVENT
DTSTAMP:20260318T154240Z
DTSTART;TZID=America/New_York:20260318T110000
DTEND;TZID=America/New_York:20260318T120000
SUMMARY:[WE ARE LIVE]: See The AI That Builds Your Business\, Drives Traffic & Generates Profit On Autopilot...
UID:b97kuj9p6oojecpk6op34cpje1lmebb7dpnmqp9ddlgmirjkc5kmspbied06oqbjehpisobcd5nn8q1echim4qb1don6usj7
TZID:America/New_York
DESCRIPTION:Topic: [WE ARE LIVE]: See The AI That Builds Your Business\, Drives Traffic & Generates Profit On Autopilot...\nDescription: Something BIG is happening…\n\nWhile most people are still struggling with tools and prompts…\n\nThis AI is already building full online businesses\, sending traffic\, and generating profits automatically.\n\n- On This LIVE Training\, You’ll Discover:\n\n- How this AI builds your entire business from scratch\n- The system that floods your offers with buyer traffic\n- How it creates your funnels\, copy & emails automatically\n- How beginners are turning this into real income fast\n\n⚡ If You Want:\n\n✔ A faster way to start making money online\n✔ A done-for-you system that removes confusion\n✔ Traffic + sales handled for you\n\nThen you need to see this LIVE.\n\n- IMPORTANT — Don’t Miss This\n\nThis is happening TODAY @ 11 AM EST and won’t be the same again.\n\n✅ Click “Add to Calendar” now to get reminded\n\nMost people miss out because they forget.\n\nDon’t be that person.\n\nJoin from PC\, Mac\, iPad\, or Android:\nhttps://zoom.us/w/96173462233?tk=odsxKAv6CNCb09aklChAd4CqiLXAu3g-zr4N4UFskUQ.DQkAAAAWZGKS2RZ3UDI2dG8zSFFQQzNaQUMydlFWZldBAAAAAAAAAAAAAAAAAAAAAAAAAAAAAAAAAAAAAAAAAAA&uuid=WN_PL-YNWd3Q6uooiLWPIVFlw\n\nPhone one-tap:\n+16694449171\,\,96173462233# US\n+16699006833\,\,96173462233# US (San Jose)\n\nJoin via audio:\n+1 669 444 9171 US\n+1 669 900 6833 US (San Jose)\n+1 689 278 1000 US\n+1 719 359 4580 US\n+1 929 205 6099 US (New York)\n+1 253 205 0468 US\n+1 253 215 8782 US (Tacoma)\n+1 301 715 8592 US (Washington DC)\n+1 305 224 1968 US\n+1 309 205 3325 US\n+1 312 626 6799 US (Chicago)\n+1 346 248 7799 US (Houston)\n+1 360 209 5623 US\n+1 386 347 5053 US\n+1 507 473 4847 US\n+1 564 217 2000 US\n+1 646 931 3860 US\nWebinar ID: 961 7346 2233\nInternational numbers available: https://zoom.us/u/adBibeQjcv\n\n\n
LOCATION:https://zoom.us/w/96173462233?tk=odsxKAv6CNCb09aklChAd4CqiLXAu3g-zr4N4UFskUQ.DQkAAAAWZGKS2RZ3UDI2dG8zSFFQQzNaQUMydlFWZldBAAAAAAAAAAAAAAAAAAAAAAAAAAAAAAAAAAAAAAAAAAA&uuid=WN_PL-YNWd3Q6uooiLWPIVFlw
SEQUENCE:1773839271
ORGANIZER;ROLE=REQ-PARTICIPANT;CN=Zoom:no-reply@zoom.us
ATTENDEE;ROLE=REQ-PARTICIPANT;CN=pkg-gnome-maintainers@lists.alioth.debian.org:mailto:pkg-gnome-maintainers@lists.alioth.debian.org
BEGIN:VALARM
TRIGGER:-PT10M
ACTION:DISPLAY
DESCRIPTION:Reminder
END:VALARM
END:VEVENT
END:VCALENDAR
