BEGIN:VCALENDAR
PRODID:-//zoom.us//iCalendar Event//EN
VERSION:2.0
CALSCALE:GREGORIAN
METHOD:REQUEST
BEGIN:VTIMEZONE
TZID:America/New_York
LAST-MODIFIED:20260306T231828Z
TZURL:https://www.tzurl.org/zoneinfo-outlook/America/New_York
X-LIC-LOCATION:America/New_York
BEGIN:DAYLIGHT
TZNAME:EDT
TZOFFSETFROM:-0500
TZOFFSETTO:-0400
DTSTART:19700308T020000
RRULE:FREQ=YEARLY;BYMONTH=3;BYDAY=2SU
END:DAYLIGHT
BEGIN:STANDARD
TZNAME:EST
TZOFFSETFROM:-0400
TZOFFSETTO:-0500
DTSTART:19701101T020000
RRULE:FREQ=YEARLY;BYMONTH=11;BYDAY=1SU
END:STANDARD
END:VTIMEZONE
BEGIN:VEVENT
DTSTAMP:20260325T140235Z
DTSTART;TZID=America/New_York:20260325T130000
DTEND;TZID=America/New_York:20260325T140000
SUMMARY:(LIVE REVEAL @ 1PM EST): Create Traffic-Pulling Videos On Demand With This First-Ever AI Hook-First System That 10X’s Traffic\, Engagement & Sales
UID:b97kuj9o6co30dpm6oq3cd1oe1lmebb7dpnmqp9ddlgmirjkc5kmspbied06oqbjehpisobcd5nn8q1echim4qb1don6usj7
TZID:America/New_York
DESCRIPTION:Topic: (LIVE REVEAL @ 1PM EST): Create Traffic-Pulling Videos On Demand With This First-Ever AI Hook-First System That 10X’s Traffic\, Engagement & Sales\nDescription: Brace yourself…\n\nBecause what you’re about to see could completely change how you create content\, get attention\, and drive sales online.\n\nThis is going LIVE TODAY at 1PM EST…\n\nAnd if your content isn’t pulling traffic\, engagement\, or sales right now…\n\nYou’re about to discover why.\n\nBecause here’s the truth most people ignore:\n\nIt’s not your effort.\nIt’s not your tools.\nIt’s not even your strategy.\n\n- It’s your HOOK.\n\nIn today’s scroll-fast world\, you have seconds to win attention…\n\nOr you get ignored.\n\nNo hook = no views\nNo views = no traffic\nNo traffic = no sales\n\nAnd that’s exactly what this LIVE session is built to fix.\n\n- What You’ll See LIVE:\n\n✔️ How to create traffic-pulling videos on demand in minutes\n✔️ The first-ever AI Hook-First system designed to stop the scroll instantly\n✔️ How to turn ANY keyword\, idea\, or offer into viral-style content\n✔️ The exact structure behind videos that drive clicks\, leads\, and sales\n✔️ How beginners are scaling content without filming\, editing\, or burnout\n✔️ The missing “money layer” that turns views into daily commissions\n\n- Built For Speed & Results\n\nYou don’t need:\n❌ Editing skills\n❌ Expensive tools\n❌ Camera confidence\n❌ Hours of work\n\nThis is designed to get you results FAST.\n\n⚠️ IMPORTANT: Add This Event To Your Calendar\n\nOnce you register\, make sure you add this webinar to your calendar so you don’t miss it.\n\nWe’re going LIVE TODAY at 1PM EST\, and there will be exclusive bonuses only revealed to attendees on the call.\n\n- Miss this… and you’ll still be stuck guessing why your content isn’t working.\n\nBe there LIVE.\n\nSee it in action.\n\nAnd finally understand what actually drives traffic\, engagement\, and sales.\n\nJoin from PC\, Mac\, iPad\, or Android:\nhttps://us06web.zoom.us/w/83007664648?tk=C4Al3ZmyyAZsXB58CbDnEjRnjuhbg8M26sMtPF55_FM.DQkAAAATU6RyCBZEMzJQTFN1MVM1cXBCV2JfYjBGeXhBAAAAAAAAAAAAAAAAAAAAAAAAAAAAAAAAAAAAAAAAAAA&uuid=WN_kg14ajUPQn-y8LtmnimfFQ\n\nPhone one-tap:\n+13052241968\,\,83007664648# US\n+13092053325\,\,83007664648# US\n\nJoin via audio:\n+1 305 224 1968 US\n+1 309 205 3325 US\n+1 312 626 6799 US (Chicago)\n+1 346 248 7799 US (Houston)\n+1 360 209 5623 US\n+1 386 347 5053 US\n+1 507 473 4847 US\n+1 564 217 2000 US\n+1 646 558 8656 US (New York)\n+1 646 931 3860 US\n+1 669 444 9171 US\n+1 669 900 6833 US (San Jose)\n+1 689 278 1000 US\n+1 719 359 4580 US\n+1 253 205 0468 US\n+1 253 215 8782 US (Tacoma)\n+1 301 715 8592 US (Washington DC)\nWebinar ID: 830 0766 4648\nInternational numbers available: https://us06web.zoom.us/u/kel3zowe77\n\n\nJoin from an H.323/SIP room system:\nH.323: \n144.195.19.161 (US West)\n206.247.11.121 (US East)\n137.66.136.22 (India Mumbai)\n137.66.140.8 (India Hyderabad)\n159.124.15.191 (Amsterdam Netherlands)\n159.124.47.249 (Germany)\n159.124.104.213 (Australia Sydney)\n159.124.74.212 (Australia Melbourne)\n170.114.180.219 (Singapore)\n64.211.144.160 (Brazil)\n159.124.132.243 (Mexico)\n159.124.168.213 (Canada Toronto)\n159.124.196.25 (Canada Vancouver)\n170.114.194.163 (Japan Tokyo)\n147.124.100.25 (Japan Osaka)\nMeeting ID: 830 0766 4648\nSIP: 83007664648@zoomcrc.com\n
LOCATION:https://us06web.zoom.us/w/83007664648?tk=C4Al3ZmyyAZsXB58CbDnEjRnjuhbg8M26sMtPF55_FM.DQkAAAATU6RyCBZEMzJQTFN1MVM1cXBCV2JfYjBGeXhBAAAAAAAAAAAAAAAAAAAAAAAAAAAAAAAAAAAAAAAAAAA&uuid=WN_kg14ajUPQn-y8LtmnimfFQ
SEQUENCE:1774441702
ORGANIZER;ROLE=REQ-PARTICIPANT;CN=Zoom:no-reply@zoom.us
ATTENDEE;ROLE=REQ-PARTICIPANT;CN=pkg-gnome-maintainers@lists.alioth.debian.org:mailto:pkg-gnome-maintainers@lists.alioth.debian.org
BEGIN:VALARM
TRIGGER:-PT10M
ACTION:DISPLAY
DESCRIPTION:Reminder
END:VALARM
END:VEVENT
END:VCALENDAR
