BEGIN:VCALENDAR
PRODID:-//zoom.us//iCalendar Event//EN
VERSION:2.0
CALSCALE:GREGORIAN
METHOD:REQUEST
BEGIN:VTIMEZONE
TZID:America/New_York
LAST-MODIFIED:20260306T231828Z
TZURL:https://www.tzurl.org/zoneinfo-outlook/America/New_York
X-LIC-LOCATION:America/New_York
BEGIN:DAYLIGHT
TZNAME:EDT
TZOFFSETFROM:-0500
TZOFFSETTO:-0400
DTSTART:19700308T020000
RRULE:FREQ=YEARLY;BYMONTH=3;BYDAY=2SU
END:DAYLIGHT
BEGIN:STANDARD
TZNAME:EST
TZOFFSETFROM:-0400
TZOFFSETTO:-0500
DTSTART:19701101T020000
RRULE:FREQ=YEARLY;BYMONTH=11;BYDAY=1SU
END:STANDARD
END:VTIMEZONE
BEGIN:VEVENT
DTSTAMP:20260405T161733Z
DTSTART;TZID=America/New_York:20260405T150000
DTEND;TZID=America/New_York:20260405T160000
SUMMARY:Discover How To Instantly Rank On Top Of Every Search From Google Rankings To AI Discovery In ChatGPT\, Gemini\, Claude\, Perplexity\, & Copilot
UID:b97kuj9o70pj0c9k6sq36e1ge1lmebb7dpnmqp9ddlgmirjkc5kmspbied06oqbjehpisobcd5nn8q1echim4qb1don6usj7
TZID:America/New_York
DESCRIPTION:Topic: Discover How To Instantly Rank On Top Of Every Search From Google Rankings To AI Discovery In ChatGPT\, Gemini\, Claude\, Perplexity\, & Copilot\nDescription: BONUS: Get The World's First AI Agent That Builds\, Runs & Monetizes A Complete Faceless YouTube Channel. Press ONE Button… And Watch ChannelAgent Research Your Niche\, Write Your Scripts\, Record Your Voiceovers\, Create 10-50 Videos at go\, Design Your Thumbnails\, Handle Your SEO\, Upload To YouTube\, AND Monetize Everything… All On Complete Autopilot. Click here https://lik.wiki/get-y0utube-payments\n\nNOTE: If you don't want future invitation to our special trainings kindly send an email with the subject "END'' to adah43397@gmail.com\n\nJoin from PC\, Mac\, iPad\, or Android:\nhttps://us06web.zoom.us/w/88301474380?tk=36OWhv2G8peXkFGozriAB4aOkeflewe_6LqSiHF3hcg.DQkAAAAUjy2STBZ0SjhIMkExeFNNT3BXNmpXM1pWSWhRAAAAAAAAAAAAAAAAAAAAAAAAAAAAAAAAAAAAAAAAAAA&pwd=pXWLcjEPli4qoHjpmE6NdMLS1IwIMQ.1&uuid=WN_XX_nL7sISOu84_gZN3aKLg\nPasscode:620874\n\nPhone one-tap:\n+16469313860\,\,88301474380#\,\,\,\,*620874# US\n+16694449171\,\,88301474380#\,\,\,\,*620874# US\n\nJoin via audio:\n+1 646 931 3860 US\n+1 669 444 9171 US\n+1 669 900 6833 US (San Jose)\n+1 689 278 1000 US\n+1 719 359 4580 US\n+1 253 205 0468 US\n+1 253 215 8782 US (Tacoma)\n+1 301 715 8592 US (Washington DC)\n+1 305 224 1968 US\n+1 309 205 3325 US\n+1 312 626 6799 US (Chicago)\n+1 346 248 7799 US (Houston)\n+1 360 209 5623 US\n+1 386 347 5053 US\n+1 507 473 4847 US\n+1 564 217 2000 US\n+1 646 558 8656 US (New York)\nWebinar ID: 883 0147 4380\nPasscode: 620874\nInternational numbers available: https://us06web.zoom.us/u/kdkwhB46zb\n\n\n
LOCATION:https://us06web.zoom.us/w/88301474380?tk=36OWhv2G8peXkFGozriAB4aOkeflewe_6LqSiHF3hcg.DQkAAAAUjy2STBZ0SjhIMkExeFNNT3BXNmpXM1pWSWhRAAAAAAAAAAAAAAAAAAAAAAAAAAAAAAAAAAAAAAAAAAA&pwd=pXWLcjEPli4qoHjpmE6NdMLS1IwIMQ.1&uuid=WN_XX_nL7sISOu84_gZN3aKLg
SEQUENCE:1775405209
ORGANIZER;ROLE=REQ-PARTICIPANT;CN=Zoom Webinar:no-reply@zoom.us
ATTENDEE;ROLE=REQ-PARTICIPANT;CN=pkg-gnome-maintainers@lists.alioth.debian.org:mailto:pkg-gnome-maintainers@lists.alioth.debian.org
BEGIN:VALARM
TRIGGER:-PT10M
ACTION:DISPLAY
DESCRIPTION:Reminder
END:VALARM
END:VEVENT
END:VCALENDAR
